BEGIN:VCALENDAR
VERSION:2.0
PRODID:-//Halwill and Ashwater Primary Schools - ECPv6.6.4//NONSGML v1.0//EN
CALSCALE:GREGORIAN
METHOD:PUBLISH
X-ORIGINAL-URL:https://www.thecareyfederation.co.uk
X-WR-CALDESC:Events for Halwill and Ashwater Primary Schools
REFRESH-INTERVAL;VALUE=DURATION:PT1H
X-Robots-Tag:noindex
X-PUBLISHED-TTL:PT1H
BEGIN:VTIMEZONE
TZID:Europe/London
BEGIN:DAYLIGHT
TZOFFSETFROM:+0000
TZOFFSETTO:+0100
TZNAME:BST
DTSTART:20210328T010000
END:DAYLIGHT
BEGIN:STANDARD
TZOFFSETFROM:+0100
TZOFFSETTO:+0000
TZNAME:GMT
DTSTART:20211031T010000
END:STANDARD
END:VTIMEZONE
BEGIN:VEVENT
DTSTART;TZID=Europe/London:20210601T094100
DTEND;TZID=Europe/London:20210601T094100
DTSTAMP:20260421T152217
CREATED:20210331T123757Z
LAST-MODIFIED:20210123T192729Z
UID:107-1622540460-1622540460@www.thecareyfederation.co.uk
SUMMARY:Spring Break - schools closed
DESCRIPTION:The Manhasset Union Free School District is in compliance with the U.S. Civil Rights Act of 1964 and the Title IX Educational Amendments of 1972\, Part 86. The School District provides equal employment and educational opportunities to all individuals without regard to race\, color\, creed\, religion\, national origin\, political affiliation\, sex\, sexual orientation\, age\, marital status\, veteran status or disability.
URL:https://www.thecareyfederation.co.uk/event/spring-break-schools-closed/
LOCATION:Mobile
CATEGORIES:Ashwater Primary School Events
END:VEVENT
END:VCALENDAR