BEGIN:VCALENDAR
VERSION:2.0
PRODID:-//Halwill and Ashwater Primary Schools - ECPv6.6.4//NONSGML v1.0//EN
CALSCALE:GREGORIAN
METHOD:PUBLISH
X-WR-CALNAME:Halwill and Ashwater Primary Schools
X-ORIGINAL-URL:https://www.thecareyfederation.co.uk
X-WR-CALDESC:Events for Halwill and Ashwater Primary Schools
REFRESH-INTERVAL;VALUE=DURATION:PT1H
X-Robots-Tag:noindex
X-PUBLISHED-TTL:PT1H
BEGIN:VTIMEZONE
TZID:Europe/London
BEGIN:DAYLIGHT
TZOFFSETFROM:+0000
TZOFFSETTO:+0100
TZNAME:BST
DTSTART:20210328T010000
END:DAYLIGHT
BEGIN:STANDARD
TZOFFSETFROM:+0100
TZOFFSETTO:+0000
TZNAME:GMT
DTSTART:20211031T010000
END:STANDARD
BEGIN:DAYLIGHT
TZOFFSETFROM:+0000
TZOFFSETTO:+0100
TZNAME:BST
DTSTART:20220327T010000
END:DAYLIGHT
BEGIN:STANDARD
TZOFFSETFROM:+0100
TZOFFSETTO:+0000
TZNAME:GMT
DTSTART:20221030T010000
END:STANDARD
END:VTIMEZONE
BEGIN:VEVENT
DTSTART;TZID=Europe/London:20210614T094100
DTEND;TZID=Europe/London:20221115T170000
DTSTAMP:20260420T110537
CREATED:20210329T064349Z
LAST-MODIFIED:20210123T055928Z
UID:108-1623663660-1668531600@www.thecareyfederation.co.uk
SUMMARY:Spring Choir Concert & School Art Show
DESCRIPTION:Vocal and instrumental music students make up McAuley’s Choir\, Vocal Ensemble\, Show Choir (with young men from LaSalle)\, and Orchestra. Each year McAuley drama performs one play in the fall\, one in the winter\, and one musical in the spring. Students enrolled in visual arts classes are frequently selected to exhibit their artwork in local venues.
URL:https://www.thecareyfederation.co.uk/event/spring-choir-concert-school-art-show/
LOCATION:Carey Qualities
CATEGORIES:Halwill Primary School Events
END:VEVENT
END:VCALENDAR